BEGIN:VCALENDAR
VERSION:2.0
PRODID:-//Bettinsoli USA - ECPv6.5.0.1//NONSGML v1.0//EN
CALSCALE:GREGORIAN
METHOD:PUBLISH
X-ORIGINAL-URL:https://bettinsoliusa.com
X-WR-CALDESC:Events for Bettinsoli USA
REFRESH-INTERVAL;VALUE=DURATION:PT1H
X-Robots-Tag:noindex
X-PUBLISHED-TTL:PT1H
BEGIN:VTIMEZONE
TZID:UTC
BEGIN:STANDARD
TZOFFSETFROM:+0000
TZOFFSETTO:+0000
TZNAME:UTC
DTSTART:20190101T000000
END:STANDARD
END:VTIMEZONE
BEGIN:VEVENT
DTSTART;TZID=UTC:20190802T170000
DTEND;TZID=UTC:20190802T200000
DTSTAMP:20260420T151807
CREATED:20190719T203914Z
LAST-MODIFIED:20190719T204208Z
UID:1850-1564765200-1564776000@bettinsoliusa.com
SUMMARY:Friends of NRA Banquet Evansville\, IN
DESCRIPTION:Bettinsoli USA will be one of the sponsors for the Evansville\, Indiana Friends of NRA annual Banquet and have a table with Bettinsoli Shotguns on display. \nFor ticket information you can visit https://www.friendsofnra.org \n 
URL:https://bettinsoliusa.com/event/nra-banquet-evansville-in/
LOCATION:Vanderburgh County 4H Center\, 201 E Boonville New Harmony Rd\, Evansville\, IN\, 47725\, United States
END:VEVENT
END:VCALENDAR