BEGIN:VCALENDAR
VERSION:2.0
PRODID:-//Bettinsoli USA - ECPv6.5.0.1//NONSGML v1.0//EN
CALSCALE:GREGORIAN
METHOD:PUBLISH
X-WR-CALNAME:Bettinsoli USA
X-ORIGINAL-URL:https://bettinsoliusa.com
X-WR-CALDESC:Events for Bettinsoli USA
REFRESH-INTERVAL;VALUE=DURATION:PT1H
X-Robots-Tag:noindex
X-PUBLISHED-TTL:PT1H
BEGIN:VTIMEZONE
TZID:UTC
BEGIN:STANDARD
TZOFFSETFROM:+0000
TZOFFSETTO:+0000
TZNAME:UTC
DTSTART:20190101T000000
END:STANDARD
END:VTIMEZONE
BEGIN:VEVENT
DTSTART;TZID=UTC:20190929T170000
DTEND;TZID=UTC:20190929T190000
DTSTAMP:20260420T120544
CREATED:20190924T154359Z
LAST-MODIFIED:20190924T154359Z
UID:1906-1569776400-1569783600@bettinsoliusa.com
SUMMARY:Ducks Unlimited Camo & Ammo Event with a 21 Gun Salute with Bettinsoli USA displaying shotguns
DESCRIPTION:Bettinsoli USA will be showing their beautiful Italian made Bettinsoli shotguns at the Evansville DU Camo & Ammo Event this Saturday\, September 28 starting at 5:00 PM at the VFW Post 1114 located on Wabash Avenue. You can get a great feel of these shotguns and if interested in purchasing set up a time to pick one up the following week. \nCost of event is $35 in advance and $45 at the door \nWe are offering $100 off retail to anyone that attends this event.
URL:https://bettinsoliusa.com/event/ducks-unlimited-camo-ammo-event-with-a-21-gun-salute-with-bettinsoli-usa-displaying-shotguns/
LOCATION:VFW Post 1114\, 110 N Wabash Avenue\, Evansville\, IN\, 47712\, United States
END:VEVENT
END:VCALENDAR