BEGIN:VCALENDAR
VERSION:2.0
PRODID:-//Bettinsoli USA - ECPv6.5.0.1//NONSGML v1.0//EN
CALSCALE:GREGORIAN
METHOD:PUBLISH
X-WR-CALNAME:Bettinsoli USA
X-ORIGINAL-URL:https://bettinsoliusa.com
X-WR-CALDESC:Events for Bettinsoli USA
REFRESH-INTERVAL;VALUE=DURATION:PT1H
X-Robots-Tag:noindex
X-PUBLISHED-TTL:PT1H
BEGIN:VTIMEZONE
TZID:UTC
BEGIN:STANDARD
TZOFFSETFROM:+0000
TZOFFSETTO:+0000
TZNAME:UTC
DTSTART:20240101T000000
END:STANDARD
END:VTIMEZONE
BEGIN:VEVENT
DTSTART;VALUE=DATE:20240124
DTEND;VALUE=DATE:20240125
DTSTAMP:20260421T010133
CREATED:20240122T171057Z
LAST-MODIFIED:20240122T171115Z
UID:2163-1706054400-1706140799@bettinsoliusa.com
SUMMARY:NSSF SHOT Show
DESCRIPTION:We will be in attendance Tuesday to Thursday to meet with industry insiders and plan the next year of Sponsorships.
URL:https://bettinsoliusa.com/event/nssf-shot-show/
LOCATION:Venetian Expo Center\, Las Vegas\, NV\, 210 Sands Avenue\, Las Vegas\, NV\, 89169
END:VEVENT
END:VCALENDAR